BEGIN:VCALENDAR
VERSION:2.0
PRODID:-//Library Market//iCal Export//EN
BEGIN:VEVENT
SUMMARY:National Pizza Party Day
UID:39469
DTSTAMP:20260423T025400Z
DTSTART:20260515T193000Z
DTEND:20260515T203000Z
LOCATION:United States
ROOM: Community Room
DESCRIPTION:
URL:https://www.cilibrary.org/event/national-pizza-party-day-39469
END:VEVENT
END:VCALENDAR
