BEGIN:VCALENDAR
VERSION:2.0
PRODID:-//Library Market//iCal Export//EN
BEGIN:VEVENT
SUMMARY:Chair Yoga
UID:39459
DTSTAMP:20260422T221700Z
DTSTART:20260501T163000Z
DTEND:20260501T173000Z
LOCATION:Central Islip Public Library, 33 Hawthorne Ave., Central Islip, N
 Y 11722, United States
ROOM: Children&#039;s Program Room
DESCRIPTION:Explore meditation, breathwork, and classic Vinyasa yoga postu
 res with the support of a chair. Lead by instructor Kimberly Ciano.
URL:https://www.cilibrary.org/event/chair-yoga-39459
END:VEVENT
END:VCALENDAR
