BEGIN:VCALENDAR
VERSION:2.0
PRODID:-//Library Market//iCal Export//EN
BEGIN:VEVENT
SUMMARY:Seasonal Social
UID:39426
DTSTAMP:20260419T185300Z
DTSTART:20261026T140000Z
DTEND:20261026T150000Z
LOCATION:United States
ROOM: Community Room
DESCRIPTION:Enjoy a light breakfast while connecting with others in the co
 mmunity. Spend time chatting, sharing a meal, and participating in games.
URL:https://www.cilibrary.org/event/seasonal-social-39426
END:VEVENT
END:VCALENDAR
