BEGIN:VCALENDAR
VERSION:2.0
PRODID:-//Library Market//iCal Export//EN
BEGIN:VEVENT
SUMMARY:Introduction to Reiki Energy Healing
UID:39425
DTSTAMP:20260419T185300Z
DTSTART:20261117T230000Z
DTEND:20261118T000000Z
LOCATION:Central Islip Public Library, 33 Hawthorne Ave., Central Islip, N
 Y 11722, United States
ROOM: Introduction to Reiki Energy Healing
DESCRIPTION:Explore the basics of Reiki, including its origins, energy hea
 ling principles, and the chakra system. Learn simple self-Reiki techniques
  along with introductory meditation and breathwork practices to support re
 laxation and balance.
URL:https://www.cilibrary.org/event/introduction-reiki-energy-healing-3942
 5
END:VEVENT
END:VCALENDAR
