BEGIN:VCALENDAR
VERSION:2.0
PRODID:-//Library Market//iCal Export//EN
BEGIN:VEVENT
SUMMARY:Book Swap
UID:39419
DTSTAMP:20260419T185300Z
DTSTART:20261110T000000Z
DTEND:20261110T010000Z
LOCATION:United States
ROOM: Community Room
DESCRIPTION:
URL:https://www.cilibrary.org/event/book-swap-39419
END:VEVENT
END:VCALENDAR
