BEGIN:VCALENDAR
VERSION:2.0
PRODID:-//Library Market//iCal Export//EN
BEGIN:VEVENT
SUMMARY:Multiplayer Meetup
UID:39418
DTSTAMP:20260419T202500Z
DTSTART:20261201T000000Z
DTEND:20261201T010000Z
LOCATION:United States
ROOM: Community Room
DESCRIPTION:
URL:https://www.cilibrary.org/event/multiplayer-meetup-39418
END:VEVENT
END:VCALENDAR
