BEGIN:VCALENDAR
VERSION:2.0
PRODID:-//Library Market//iCal Export//EN
BEGIN:VEVENT
SUMMARY:Multiplayer Meetup
UID:39417
DTSTAMP:20260420T014700Z
DTSTART:20260929T230000Z
DTEND:20260930T000000Z
LOCATION:United States
ROOM: Community Room
DESCRIPTION:Connect with other gamers for an evening of multiplayer fun ac
 ross Nintendo Switch, PlayStation 5, and VR platforms. 
URL:https://www.cilibrary.org/event/multiplayer-meetup-39417
END:VEVENT
END:VCALENDAR
