BEGIN:VCALENDAR
VERSION:2.0
PRODID:-//Library Market//iCal Export//EN
BEGIN:VEVENT
SUMMARY:Fall Clay Trinkets: Magnets
UID:39415
DTSTAMP:20260419T202500Z
DTSTART:20261125T000000Z
DTEND:20261125T010000Z
LOCATION:United States
ROOM: Community Room
DESCRIPTION:
URL:https://www.cilibrary.org/event/fall-clay-trinkets-magnets-39415
END:VEVENT
END:VCALENDAR
