BEGIN:VCALENDAR
VERSION:2.0
PRODID:-//Library Market//iCal Export//EN
BEGIN:VEVENT
SUMMARY:CPR &amp; AED
UID:39362
DTSTAMP:20260419T185300Z
DTSTART:20261102T230000Z
DTEND:20261103T010000Z
LOCATION:United States
ROOM: Community Room
DESCRIPTION:
URL:https://www.cilibrary.org/event/cpr-aed-39362
END:VEVENT
END:VCALENDAR
