BEGIN:VCALENDAR
VERSION:2.0
PRODID:-//Library Market//iCal Export//EN
BEGIN:VEVENT
SUMMARY:Marital Arts Demo &amp; Self Defense
UID:39358
DTSTAMP:20260419T185300Z
DTSTART:20261022T220000Z
DTEND:20261022T230000Z
LOCATION:United States
ROOM: Community Room
DESCRIPTION:
URL:https://www.cilibrary.org/event/marital-arts-demo-self-defense-39358
END:VEVENT
END:VCALENDAR
