BEGIN:VCALENDAR
VERSION:2.0
PRODID:-//Library Market//iCal Export//EN
BEGIN:VEVENT
SUMMARY:Marital Arts Demo &amp; Self Defense
UID:39357
DTSTAMP:20260419T205700Z
DTSTART:20261015T220000Z
DTEND:20261015T230000Z
LOCATION:United States
ROOM: Community Room
DESCRIPTION:
URL:https://www.cilibrary.org/event/marital-arts-demo-self-defense-39357
END:VEVENT
END:VCALENDAR
