BEGIN:VCALENDAR
VERSION:2.0
PRODID:-//Library Market//iCal Export//EN
BEGIN:VEVENT
SUMMARY:CPR &amp; AED
UID:39355
DTSTAMP:20260419T191600Z
DTSTART:20261001T220000Z
DTEND:20261002T000000Z
LOCATION:United States
ROOM: Community Room
DESCRIPTION:
URL:https://www.cilibrary.org/event/cpr-aed-39355
END:VEVENT
END:VCALENDAR
