BEGIN:VCALENDAR
VERSION:2.0
PRODID:-//Library Market//iCal Export//EN
BEGIN:VEVENT
SUMMARY:Bilingual Storytime: Ages 5-7
UID:39310
DTSTAMP:20260419T154800Z
DTSTART:20260618T220000Z
DTEND:20260618T224500Z
LOCATION:Central Islip Public Library, 33 Hawthorne Ave., Central Islip, N
 Y 11722, United States
ROOM: Children&#039;s Program Room
DESCRIPTION:Join us for a story read in both English and Spanish followed 
 by a fun craft activity!
URL:https://www.cilibrary.org/event/bilingual-storytime-ages-5-7-39310
END:VEVENT
END:VCALENDAR
