BEGIN:VCALENDAR
VERSION:2.0
PRODID:-//Library Market//iCal Export//EN
BEGIN:VEVENT
SUMMARY:Saving on Prescription Drugs
UID:39241
DTSTAMP:20260420T014700Z
DTSTART:20261003T150000Z
DTEND:20261003T160000Z
LOCATION:United States
ROOM: Community Room
DESCRIPTION:
URL:https://www.cilibrary.org/event/saving-prescription-drugs-39241
END:VEVENT
END:VCALENDAR
