BEGIN:VCALENDAR
VERSION:2.0
PRODID:-//Library Market//iCal Export//EN
BEGIN:VEVENT
SUMMARY:Senior Scams
UID:39240
DTSTAMP:20260419T183200Z
DTSTART:20261020T230000Z
DTEND:20261021T000000Z
LOCATION:United States
ROOM: Community Room
DESCRIPTION:
URL:https://www.cilibrary.org/event/senior-scams-39240
END:VEVENT
END:VCALENDAR
