BEGIN:VCALENDAR
VERSION:2.0
PRODID:-//Library Market//iCal Export//EN
BEGIN:VEVENT
SUMMARY:Medicare 2027
UID:39021
DTSTAMP:20260425T025200Z
DTSTART:20260922T230000Z
DTEND:20260923T000000Z
LOCATION:United States
ROOM: Community Room
DESCRIPTION:Join Kiersten Palma for this educational seminar discussing th
 e pros and cons of Medicare Advantage (Part C) and the upcoming changes co
 ming to Medicare in 2027.
URL:https://www.cilibrary.org/event/medicare-2027-39021
END:VEVENT
END:VCALENDAR
