BEGIN:VCALENDAR
VERSION:2.0
PRODID:-//Library Market//iCal Export//EN
BEGIN:VEVENT
SUMMARY:Shell-oupage: Ages 5-12
UID:37915
DTSTAMP:20260419T151800Z
DTSTART:20260616T230000Z
DTEND:20260617T000000Z
LOCATION:Central Islip Public Library, 33 Hawthorne Ave., Central Islip, N
 Y 11722, United States
ROOM: Children&#039;s Program Room
DESCRIPTION:Get crafty using seashells and the background for a decoupage 
 creation. Choose your shell and which image you want on the shell and make
  a unique creation!
URL:https://www.cilibrary.org/event/shell-oupage-ages-5-12-37915
END:VEVENT
END:VCALENDAR
