BEGIN:VCALENDAR
VERSION:2.0
PRODID:-//Library Market//iCal Export//EN
BEGIN:VEVENT
SUMMARY:Little Bookworms: Ages birth-4 w/adult
UID:36253
DTSTAMP:20260419T122100Z
DTSTART:20260605T143000Z
DTEND:20260605T150000Z
LOCATION:Central Islip Public Library, 33 Hawthorne Ave., Central Islip, N
 Y 11722, United States
ROOM: Children&#039;s Program Room
DESCRIPTION:Join us for these special storytimes that are just right for l
 ittle listeners!
URL:https://www.cilibrary.org/event/little-bookworms-ages-2-4-36253
END:VEVENT
END:VCALENDAR
