BEGIN:VCALENDAR
VERSION:2.0
PRODID:-//Library Market//iCal Export//EN
BEGIN:VEVENT
SUMMARY:Play With Me Toddlers: Ages 2-4 w/adult
UID:36075
DTSTAMP:20260419T122100Z
DTSTART:20260722T144500Z
DTEND:20260722T153000Z
LOCATION:United States
ROOM: Community Room
DESCRIPTION:
URL:https://www.cilibrary.org/event/play-me-toddlers-ages-2-4-36075
END:VEVENT
END:VCALENDAR
