BEGIN:VCALENDAR
VERSION:2.0
PRODID:-//Library Market//iCal Export//EN
BEGIN:VEVENT
SUMMARY:Play With Me Toddlers: Ages 2-4 w/adult
UID:36071
DTSTAMP:20260419T122000Z
DTSTART:20260624T144500Z
DTEND:20260624T153000Z
LOCATION:Central Islip Public Library, 33 Hawthorne Ave., Central Islip, N
 Y 11722, United States
ROOM: Children&#039;s Program Room
DESCRIPTION:
URL:https://www.cilibrary.org/event/play-me-toddlers-ages-2-4-36071
END:VEVENT
END:VCALENDAR
