BEGIN:VCALENDAR
VERSION:2.0
PRODID:-//Library Market//iCal Export//EN
BEGIN:VEVENT
SUMMARY:Play With Me Babies: Ages birth- 23 months w/adult
UID:36013
DTSTAMP:20260419T123100Z
DTSTART:20260708T140000Z
DTEND:20260708T143000Z
LOCATION:United States
ROOM: Community Room
DESCRIPTION:
URL:https://www.cilibrary.org/event/play-me-babies-ages-birth-23-months-36
 013
END:VEVENT
END:VCALENDAR
