BEGIN:VCALENDAR
VERSION:2.0
PRODID:-//Library Market//iCal Export//EN
BEGIN:VEVENT
SUMMARY:Play With Me Babies: Ages birth- 23 months w/adult
UID:36009
DTSTAMP:20260419T122100Z
DTSTART:20260610T140000Z
DTEND:20260610T143000Z
LOCATION:Central Islip Public Library, 33 Hawthorne Ave., Central Islip, N
 Y 11722, United States
ROOM: Children&#039;s Program Room
DESCRIPTION:
URL:https://www.cilibrary.org/event/play-me-babies-ages-birth-23-months-36
 009
END:VEVENT
END:VCALENDAR
